BEGIN:VCALENDAR
VERSION:2.0
PRODID:-//AnandChowdhary//calendar-link//EN
BEGIN:VEVENT
DTSTART:20260205T170000Z
DTEND:20260205T190000Z
DTSTAMP:20260115T173921Z
SUMMARY:Webinar Dolore, Cefalea e Cervicalgia in Ortodonzia: Come l’osteopatia può aiutare nella prevenzione e gestione delle complicanze
DESCRIPTION:Webinar Dolore, Cefalea e Cervicalgia in Ortodonzia: Come l’osteopatia può aiutare nella prevenzione e gestione delle complicanze\nWebinar gratuito online via YouTube\nhttps://www.youtube.com/watch?v=Jae-qTKRDo8
LOCATION:Webinar online via YouTube
UID:22083
END:VEVENT
END:VCALENDAR
