BEGIN:VCALENDAR
VERSION:2.0
PRODID:Approccio Razionale al Paziente Disfunzionale Plurisintomatico
BEGIN:VEVENT
DTSTART:20241216T190000Z
DTEND:20241216T210000Z
DTSTAMP:20241129T000640Z
SUMMARY:Approccio Razionale al Paziente Disfunzionale Plurisintomatico
DESCRIPTION:Approccio Razionale al Paziente Disfunzionale Plurisintomatico\nWebinar gratuito online via Zoom\nhttps://us06web.zoom.us/j/87076043922?pwd=JEZjq9efjlgfiVm3aeAFWq26IqIGh8.1\nID riunione: 870 7604 3922\nCodice d’accesso: 346347
LOCATION:Webinar online via Zoom
UID:91611
END:VEVENT
END:VCALENDAR
