BEGIN:VCALENDAR
VERSION:2.0
PRODID:-//AnandChowdhary//calendar-link//EN
BEGIN:VEVENT
DTSTART:20251126T170000Z
DTEND:20251126T190000Z
DTSTAMP:20251110T160730Z
SUMMARY:Presentazione del corso Cranial Body Balance® con Francesco Reforzo
DESCRIPTION:Presentazione del corso Cranial Body Balance® con Francesco Reforzo\nWebinar gratuito online via YouTube\nhttps://www.youtube.com/watch?v=JS7a6ujoGSk
LOCATION:Webinar online via YouTube
UID:41889
END:VEVENT
END:VCALENDAR
