BEGIN:VCALENDAR
VERSION:2.0
PRODID:Webinar Gestisci la Cefalea con Strumenti e Tecniche Efficaci
BEGIN:VEVENT
DTSTART:20250117T180000Z
DTEND:20250117T200000Z
DTSTAMP:20250101T140609Z
SUMMARY:Webinar Gestisci la Cefalea con Strumenti e Tecniche Efficaci
DESCRIPTION:Webinar Gestisci la Cefalea con Strumenti e Tecniche Efficaci\nWebinar gratuito online via YouTube\nhttps://www.youtube.com/watch?v=lPQ0Gp66lEI
LOCATION:Webinar online via YouTube
UID:99775
END:VEVENT
END:VCALENDAR
