BEGIN:VCALENDAR
VERSION:2.0
PRODID:Clinica OsteoPnei: La Gestione del Paziente con Autoimmunità
BEGIN:VEVENT
DTSTART:20250604T153000Z
DTEND:20250604T173000Z
DTSTAMP:20250518T204438Z
SUMMARY:Clinica OsteoPnei: La Gestione del Paziente con Autoimmunità
DESCRIPTION:Clinica OsteoPnei: La Gestione del Paziente con Autoimmunità\nWebinar gratuito online via YouTube\nhttps://www.youtube.com/watch?v=RLW4ZvrOJJ8
LOCATION:Webinar online via YouTube
UID:98629
END:VEVENT
END:VCALENDAR
